BEGIN:VCALENDAR
VERSION:2.0
PRODID:-//destination.one//NONSGML destination.meta API//DE
X-WR-CALDESC:A calendar powered by destination.meta
X-WR-CALNAME:walkenried Kalender via destination.meta
BEGIN:VEVENT
CATEGORIES:Führung
DESCRIPTION:Führung durch das NATURZEITMUSEUM\n\nmehr Informationen unter h
 ttp://pages.destination.one/de/walkenried/streaming/detail/Event/e_1009746
 29/auf-den-spuren-der-natur
DTEND;TZID=Europe/Berlin:20250418T160000
DTSTAMP:20260422T162332Z
DTSTART;TZID=Europe/Berlin:20250418T150000
GEO:51.599681;10.547784
LOCATION:NatUrzeitmuseum Bad Sachsa\, Am Kurpark 6\, Bad Sachsa
ORGANIZER;CN=Tourist-Information Bad Sachsa:mailto:info@bad-sachsa-urlaub.d
 e
SEQUENCE:0
SUMMARY:Auf den Spuren der Natur
UID:e_100974629_iv0
URL:http://pages.destination.one/de/walkenried/streaming/detail/Event/e_100
 974629/auf-den-spuren-der-natur
END:VEVENT
BEGIN:VEVENT
CATEGORIES:Führung
DESCRIPTION:Führung durch das NATURZEITMUSEUM\n\nmehr Informationen unter h
 ttp://pages.destination.one/de/walkenried/streaming/detail/Event/e_1009746
 29/auf-den-spuren-der-natur
DTEND;TZID=Europe/Berlin:20250515T160000
DTSTAMP:20260422T162332Z
DTSTART;TZID=Europe/Berlin:20250515T150000
GEO:51.599681;10.547784
LOCATION:NatUrzeitmuseum Bad Sachsa\, Am Kurpark 6\, Bad Sachsa
ORGANIZER;CN=Tourist-Information Bad Sachsa:mailto:info@bad-sachsa-urlaub.d
 e
SEQUENCE:0
SUMMARY:Auf den Spuren der Natur
UID:e_100974629_iv1
URL:http://pages.destination.one/de/walkenried/streaming/detail/Event/e_100
 974629/auf-den-spuren-der-natur
END:VEVENT
BEGIN:VEVENT
CATEGORIES:Führung
DESCRIPTION:Führung durch das NATURZEITMUSEUM\n\nmehr Informationen unter h
 ttp://pages.destination.one/de/walkenried/streaming/detail/Event/e_1009746
 29/auf-den-spuren-der-natur
DTEND;TZID=Europe/Berlin:20250618T160000
DTSTAMP:20260422T162332Z
DTSTART;TZID=Europe/Berlin:20250618T150000
GEO:51.599681;10.547784
LOCATION:NatUrzeitmuseum Bad Sachsa\, Am Kurpark 6\, Bad Sachsa
ORGANIZER;CN=Tourist-Information Bad Sachsa:mailto:info@bad-sachsa-urlaub.d
 e
SEQUENCE:0
SUMMARY:Auf den Spuren der Natur
UID:e_100974629_iv2
URL:http://pages.destination.one/de/walkenried/streaming/detail/Event/e_100
 974629/auf-den-spuren-der-natur
END:VEVENT
BEGIN:VEVENT
CATEGORIES:Führung
DESCRIPTION:Führung durch das NATURZEITMUSEUM\n\nmehr Informationen unter h
 ttp://pages.destination.one/de/walkenried/streaming/detail/Event/e_1009746
 29/auf-den-spuren-der-natur
DTEND;TZID=Europe/Berlin:20250716T160000
DTSTAMP:20260422T162332Z
DTSTART;TZID=Europe/Berlin:20250716T150000
GEO:51.599681;10.547784
LOCATION:NatUrzeitmuseum Bad Sachsa\, Am Kurpark 6\, Bad Sachsa
ORGANIZER;CN=Tourist-Information Bad Sachsa:mailto:info@bad-sachsa-urlaub.d
 e
SEQUENCE:0
SUMMARY:Auf den Spuren der Natur
UID:e_100974629_iv3
URL:http://pages.destination.one/de/walkenried/streaming/detail/Event/e_100
 974629/auf-den-spuren-der-natur
END:VEVENT
BEGIN:VEVENT
CATEGORIES:Führung
DESCRIPTION:Führung durch das NATURZEITMUSEUM\n\nmehr Informationen unter h
 ttp://pages.destination.one/de/walkenried/streaming/detail/Event/e_1009746
 29/auf-den-spuren-der-natur
DTEND;TZID=Europe/Berlin:20250821T160000
DTSTAMP:20260422T162332Z
DTSTART;TZID=Europe/Berlin:20250821T150000
GEO:51.599681;10.547784
LOCATION:NatUrzeitmuseum Bad Sachsa\, Am Kurpark 6\, Bad Sachsa
ORGANIZER;CN=Tourist-Information Bad Sachsa:mailto:info@bad-sachsa-urlaub.d
 e
SEQUENCE:0
SUMMARY:Auf den Spuren der Natur
UID:e_100974629_iv4
URL:http://pages.destination.one/de/walkenried/streaming/detail/Event/e_100
 974629/auf-den-spuren-der-natur
END:VEVENT
BEGIN:VEVENT
CATEGORIES:Führung
DESCRIPTION:Führung durch das NATURZEITMUSEUM\n\nmehr Informationen unter h
 ttp://pages.destination.one/de/walkenried/streaming/detail/Event/e_1009746
 29/auf-den-spuren-der-natur
DTEND;TZID=Europe/Berlin:20250918T160000
DTSTAMP:20260422T162332Z
DTSTART;TZID=Europe/Berlin:20250918T150000
GEO:51.599681;10.547784
LOCATION:NatUrzeitmuseum Bad Sachsa\, Am Kurpark 6\, Bad Sachsa
ORGANIZER;CN=Tourist-Information Bad Sachsa:mailto:info@bad-sachsa-urlaub.d
 e
SEQUENCE:0
SUMMARY:Auf den Spuren der Natur
UID:e_100974629_iv5
URL:http://pages.destination.one/de/walkenried/streaming/detail/Event/e_100
 974629/auf-den-spuren-der-natur
END:VEVENT
BEGIN:VEVENT
CATEGORIES:Führung
DESCRIPTION:Führung durch das NATURZEITMUSEUM\n\nmehr Informationen unter h
 ttp://pages.destination.one/de/walkenried/streaming/detail/Event/e_1009746
 29/auf-den-spuren-der-natur
DTEND;TZID=Europe/Berlin:20251016T160000
DTSTAMP:20260422T162332Z
DTSTART;TZID=Europe/Berlin:20251016T150000
GEO:51.599681;10.547784
LOCATION:NatUrzeitmuseum Bad Sachsa\, Am Kurpark 6\, Bad Sachsa
ORGANIZER;CN=Tourist-Information Bad Sachsa:mailto:info@bad-sachsa-urlaub.d
 e
SEQUENCE:0
SUMMARY:Auf den Spuren der Natur
UID:e_100974629_iv6
URL:http://pages.destination.one/de/walkenried/streaming/detail/Event/e_100
 974629/auf-den-spuren-der-natur
END:VEVENT
BEGIN:VEVENT
CATEGORIES:Führung
DESCRIPTION:Führung durch das NATURZEITMUSEUM\n\nmehr Informationen unter h
 ttp://pages.destination.one/de/walkenried/streaming/detail/Event/e_1009746
 29/auf-den-spuren-der-natur
DTEND;TZID=Europe/Berlin:20251111T150000
DTSTAMP:20260422T162332Z
DTSTART;TZID=Europe/Berlin:20251111T140000
GEO:51.599681;10.547784
LOCATION:NatUrzeitmuseum Bad Sachsa\, Am Kurpark 6\, Bad Sachsa
ORGANIZER;CN=Tourist-Information Bad Sachsa:mailto:info@bad-sachsa-urlaub.d
 e
SEQUENCE:0
SUMMARY:Auf den Spuren der Natur
UID:e_100974629_iv7
URL:http://pages.destination.one/de/walkenried/streaming/detail/Event/e_100
 974629/auf-den-spuren-der-natur
END:VEVENT
BEGIN:VEVENT
CATEGORIES:Führung
DESCRIPTION:Führung durch das NATURZEITMUSEUM\n\nmehr Informationen unter h
 ttp://pages.destination.one/de/walkenried/streaming/detail/Event/e_1009746
 29/auf-den-spuren-der-natur
DTEND;TZID=Europe/Berlin:20260403T153000
DTSTAMP:20260422T162332Z
DTSTART;TZID=Europe/Berlin:20260403T140000
GEO:51.599681;10.547784
LOCATION:NatUrzeitmuseum Bad Sachsa\, Am Kurpark 6\, Bad Sachsa
ORGANIZER;CN=Tourist-Information Bad Sachsa:mailto:info@bad-sachsa-urlaub.d
 e
SEQUENCE:0
SUMMARY:Auf den Spuren der Natur
UID:e_100974629_iv8
URL:http://pages.destination.one/de/walkenried/streaming/detail/Event/e_100
 974629/auf-den-spuren-der-natur
END:VEVENT
BEGIN:VEVENT
CATEGORIES:Führung
DESCRIPTION:Führung durch das NATURZEITMUSEUM\n\nmehr Informationen unter h
 ttp://pages.destination.one/de/walkenried/streaming/detail/Event/e_1009746
 29/auf-den-spuren-der-natur
DTEND;TZID=Europe/Berlin:20260517T153000
DTSTAMP:20260422T162332Z
DTSTART;TZID=Europe/Berlin:20260517T140000
GEO:51.599681;10.547784
LOCATION:NatUrzeitmuseum Bad Sachsa\, Am Kurpark 6\, Bad Sachsa
ORGANIZER;CN=Tourist-Information Bad Sachsa:mailto:info@bad-sachsa-urlaub.d
 e
SEQUENCE:0
SUMMARY:Auf den Spuren der Natur
UID:e_100974629_iv9
URL:http://pages.destination.one/de/walkenried/streaming/detail/Event/e_100
 974629/auf-den-spuren-der-natur
END:VEVENT
BEGIN:VEVENT
CATEGORIES:Führung
DESCRIPTION:Führung durch das NATURZEITMUSEUM\n\nmehr Informationen unter h
 ttp://pages.destination.one/de/walkenried/streaming/detail/Event/e_1009746
 29/auf-den-spuren-der-natur
DTEND;TZID=Europe/Berlin:20260618T153000
DTSTAMP:20260422T162332Z
DTSTART;TZID=Europe/Berlin:20260618T140000
GEO:51.599681;10.547784
LOCATION:NatUrzeitmuseum Bad Sachsa\, Am Kurpark 6\, Bad Sachsa
ORGANIZER;CN=Tourist-Information Bad Sachsa:mailto:info@bad-sachsa-urlaub.d
 e
SEQUENCE:0
SUMMARY:Auf den Spuren der Natur
UID:e_100974629_iv10
URL:http://pages.destination.one/de/walkenried/streaming/detail/Event/e_100
 974629/auf-den-spuren-der-natur
END:VEVENT
BEGIN:VEVENT
CATEGORIES:Führung
DESCRIPTION:Führung durch das NATURZEITMUSEUM\n\nmehr Informationen unter h
 ttp://pages.destination.one/de/walkenried/streaming/detail/Event/e_1009746
 29/auf-den-spuren-der-natur
DTEND;TZID=Europe/Berlin:20260716T153000
DTSTAMP:20260422T162332Z
DTSTART;TZID=Europe/Berlin:20260716T140000
GEO:51.599681;10.547784
LOCATION:NatUrzeitmuseum Bad Sachsa\, Am Kurpark 6\, Bad Sachsa
ORGANIZER;CN=Tourist-Information Bad Sachsa:mailto:info@bad-sachsa-urlaub.d
 e
SEQUENCE:0
SUMMARY:Auf den Spuren der Natur
UID:e_100974629_iv11
URL:http://pages.destination.one/de/walkenried/streaming/detail/Event/e_100
 974629/auf-den-spuren-der-natur
END:VEVENT
BEGIN:VEVENT
CATEGORIES:Führung
DESCRIPTION:Führung durch das NATURZEITMUSEUM\n\nmehr Informationen unter h
 ttp://pages.destination.one/de/walkenried/streaming/detail/Event/e_1009746
 29/auf-den-spuren-der-natur
DTEND;TZID=Europe/Berlin:20260820T153000
DTSTAMP:20260422T162332Z
DTSTART;TZID=Europe/Berlin:20260820T140000
GEO:51.599681;10.547784
LOCATION:NatUrzeitmuseum Bad Sachsa\, Am Kurpark 6\, Bad Sachsa
ORGANIZER;CN=Tourist-Information Bad Sachsa:mailto:info@bad-sachsa-urlaub.d
 e
SEQUENCE:0
SUMMARY:Auf den Spuren der Natur
UID:e_100974629_iv12
URL:http://pages.destination.one/de/walkenried/streaming/detail/Event/e_100
 974629/auf-den-spuren-der-natur
END:VEVENT
BEGIN:VEVENT
CATEGORIES:Führung
DESCRIPTION:Führung durch das NATURZEITMUSEUM\n\nmehr Informationen unter h
 ttp://pages.destination.one/de/walkenried/streaming/detail/Event/e_1009746
 29/auf-den-spuren-der-natur
DTEND;TZID=Europe/Berlin:20260917T153000
DTSTAMP:20260422T162332Z
DTSTART;TZID=Europe/Berlin:20260917T140000
GEO:51.599681;10.547784
LOCATION:NatUrzeitmuseum Bad Sachsa\, Am Kurpark 6\, Bad Sachsa
ORGANIZER;CN=Tourist-Information Bad Sachsa:mailto:info@bad-sachsa-urlaub.d
 e
SEQUENCE:0
SUMMARY:Auf den Spuren der Natur
UID:e_100974629_iv13
URL:http://pages.destination.one/de/walkenried/streaming/detail/Event/e_100
 974629/auf-den-spuren-der-natur
END:VEVENT
BEGIN:VEVENT
CATEGORIES:Führung
DESCRIPTION:Führung durch das NATURZEITMUSEUM\n\nmehr Informationen unter h
 ttp://pages.destination.one/de/walkenried/streaming/detail/Event/e_1009746
 29/auf-den-spuren-der-natur
DTEND;TZID=Europe/Berlin:20261015T153000
DTSTAMP:20260422T162332Z
DTSTART;TZID=Europe/Berlin:20261015T140000
GEO:51.599681;10.547784
LOCATION:NatUrzeitmuseum Bad Sachsa\, Am Kurpark 6\, Bad Sachsa
ORGANIZER;CN=Tourist-Information Bad Sachsa:mailto:info@bad-sachsa-urlaub.d
 e
SEQUENCE:0
SUMMARY:Auf den Spuren der Natur
UID:e_100974629_iv14
URL:http://pages.destination.one/de/walkenried/streaming/detail/Event/e_100
 974629/auf-den-spuren-der-natur
END:VEVENT
BEGIN:VTIMEZONE
TZID:Europe/Berlin
X-LIC-LOCATION:Europe/Berlin
BEGIN:DAYLIGHT
DTSTART:19700329T020000
RRULE:FREQ=YEARLY;BYDAY=-1SU;BYMONTH=3
TZNAME:CEST
TZOFFSETFROM:+0100
TZOFFSETTO:+0200
END:DAYLIGHT
BEGIN:STANDARD
DTSTART:19701025T030000
RRULE:FREQ=YEARLY;BYDAY=-1SU;BYMONTH=10
TZNAME:CET
TZOFFSETFROM:+0200
TZOFFSETTO:+0100
END:STANDARD
END:VTIMEZONE
END:VCALENDAR
