BEGIN:VCALENDAR
VERSION:2.0
PRODID:-//destination.one//NONSGML destination.meta API//DE
X-WR-CALDESC:A calendar powered by destination.meta
X-WR-CALNAME:taunus Kalender via destination.meta
BEGIN:VEVENT
CATEGORIES:Historischer Rundgang
DESCRIPTION:\n\nmehr Informationen unter http://pages.destination.one/de/ta
 unus/streaming/detail/Event/e_101230991/auf-den-spuren-j-dischen-lebens-in
 -oberursel-stadtrundgang-mit-angelika-rieber
DTEND;TZID=Europe/Berlin:20260426T160000
DTSTAMP:20260421T160957Z
DTSTART;TZID=Europe/Berlin:20260426T143000
GEO:50.202355;8.576835
LOCATION:Marktplatz\, Oberursel (Taunus)\, Marktplatz\, Oberursel
ORGANIZER;CN=Stadtverwaltung Oberursel (Ts.):mailto:info@oberursel.de
SEQUENCE:0
SUMMARY:•	Auf den Spuren jüdischen Lebens in Oberursel - Stadtrundgang mit 
 Angelika Rieber
UID:e_101230991_iv0
URL:http://pages.destination.one/de/taunus/streaming/detail/Event/e_1012309
 91/auf-den-spuren-j-dischen-lebens-in-oberursel-stadtrundgang-mit-angelika
 -rieber
END:VEVENT
BEGIN:VTIMEZONE
TZID:Europe/Berlin
X-LIC-LOCATION:Europe/Berlin
BEGIN:DAYLIGHT
DTSTART:19700329T020000
RRULE:FREQ=YEARLY;BYDAY=-1SU;BYMONTH=3
TZNAME:CEST
TZOFFSETFROM:+0100
TZOFFSETTO:+0200
END:DAYLIGHT
BEGIN:STANDARD
DTSTART:19701025T030000
RRULE:FREQ=YEARLY;BYDAY=-1SU;BYMONTH=10
TZNAME:CET
TZOFFSETFROM:+0200
TZOFFSETTO:+0100
END:STANDARD
END:VTIMEZONE
END:VCALENDAR
