BEGIN:VCALENDAR
VERSION:2.0
PRODID:-//destination.one//NONSGML destination.meta API//DE
X-WR-CALDESC:A calendar powered by destination.meta
X-WR-CALNAME:saale-unstrut-tourismus Kalender via destination.meta
BEGIN:VEVENT
CATEGORIES:Führung/Besichtigung
DESCRIPTION:Öffentliche Themenführung\n\nmehr Informationen unter http://pa
 ges.destination.one/de/saale-unstrut-tourismus/streaming/detail/Event/e_10
 1030410/schiller-und-goethe-in-jena
DTEND;TZID=Europe/Berlin:20220911T160000
DTSTAMP:20260423T161418Z
DTSTART;TZID=Europe/Berlin:20220911T140000
GEO:50.927982;11.588575
LOCATION:Jena Tourist-Information\, Markt 16\, Jena
ORGANIZER;CN=Jena Tourist-Information:mailto:tourist-info@jena.de
SEQUENCE:0
SUMMARY:"Schiller und Goethe in Jena"
UID:e_101030410_iv0
URL:http://pages.destination.one/de/saale-unstrut-tourismus/streaming/detai
 l/Event/e_101030410/schiller-und-goethe-in-jena
END:VEVENT
BEGIN:VEVENT
CATEGORIES:Führung/Besichtigung
DESCRIPTION:Öffentliche Themenführung\n\nmehr Informationen unter http://pa
 ges.destination.one/de/saale-unstrut-tourismus/streaming/detail/Event/e_10
 1030410/schiller-und-goethe-in-jena
DTEND;TZID=Europe/Berlin:20230826T123000
DTSTAMP:20260423T161418Z
DTSTART;TZID=Europe/Berlin:20230826T103000
GEO:50.927982;11.588575
LOCATION:Jena Tourist-Information\, Markt 16\, Jena
ORGANIZER;CN=Jena Tourist-Information:mailto:tourist-info@jena.de
SEQUENCE:0
SUMMARY:"Schiller und Goethe in Jena"
UID:e_101030410_iv1
URL:http://pages.destination.one/de/saale-unstrut-tourismus/streaming/detai
 l/Event/e_101030410/schiller-und-goethe-in-jena
END:VEVENT
BEGIN:VEVENT
CATEGORIES:Führung/Besichtigung
DESCRIPTION:Öffentliche Themenführung\n\nmehr Informationen unter http://pa
 ges.destination.one/de/saale-unstrut-tourismus/streaming/detail/Event/e_10
 1030410/schiller-und-goethe-in-jena
DTEND;TZID=Europe/Berlin:20240720T123000
DTSTAMP:20260423T161418Z
DTSTART;TZID=Europe/Berlin:20240720T103000
GEO:50.927982;11.588575
LOCATION:Jena Tourist-Information\, Markt 16\, Jena
ORGANIZER;CN=Jena Tourist-Information:mailto:tourist-info@jena.de
SEQUENCE:0
SUMMARY:"Schiller und Goethe in Jena"
UID:e_101030410_iv2
URL:http://pages.destination.one/de/saale-unstrut-tourismus/streaming/detai
 l/Event/e_101030410/schiller-und-goethe-in-jena
END:VEVENT
BEGIN:VEVENT
CATEGORIES:Führung/Besichtigung
DESCRIPTION:Öffentliche Themenführung\n\nmehr Informationen unter http://pa
 ges.destination.one/de/saale-unstrut-tourismus/streaming/detail/Event/e_10
 1030410/schiller-und-goethe-in-jena
DTEND;TZID=Europe/Berlin:20250503T123000
DTSTAMP:20260423T161418Z
DTSTART;TZID=Europe/Berlin:20250503T103000
GEO:50.927982;11.588575
LOCATION:Jena Tourist-Information\, Markt 16\, Jena
ORGANIZER;CN=Jena Tourist-Information:mailto:tourist-info@jena.de
SEQUENCE:0
SUMMARY:"Schiller und Goethe in Jena"
UID:e_101030410_iv3
URL:http://pages.destination.one/de/saale-unstrut-tourismus/streaming/detai
 l/Event/e_101030410/schiller-und-goethe-in-jena
END:VEVENT
BEGIN:VEVENT
CATEGORIES:Führung/Besichtigung
DESCRIPTION:Öffentliche Themenführung\n\nmehr Informationen unter http://pa
 ges.destination.one/de/saale-unstrut-tourismus/streaming/detail/Event/e_10
 1030410/schiller-und-goethe-in-jena
DTEND;TZID=Europe/Berlin:20260509T123000
DTSTAMP:20260423T161418Z
DTSTART;TZID=Europe/Berlin:20260509T103000
GEO:50.927982;11.588575
LOCATION:Jena Tourist-Information\, Markt 16\, Jena
ORGANIZER;CN=Jena Tourist-Information:mailto:tourist-info@jena.de
SEQUENCE:0
SUMMARY:"Schiller und Goethe in Jena"
UID:e_101030410_iv4
URL:http://pages.destination.one/de/saale-unstrut-tourismus/streaming/detai
 l/Event/e_101030410/schiller-und-goethe-in-jena
END:VEVENT
BEGIN:VTIMEZONE
TZID:Europe/Berlin
X-LIC-LOCATION:Europe/Berlin
BEGIN:DAYLIGHT
DTSTART:19700329T020000
RRULE:FREQ=YEARLY;BYDAY=-1SU;BYMONTH=3
TZNAME:CEST
TZOFFSETFROM:+0100
TZOFFSETTO:+0200
END:DAYLIGHT
BEGIN:STANDARD
DTSTART:19701025T030000
RRULE:FREQ=YEARLY;BYDAY=-1SU;BYMONTH=10
TZNAME:CET
TZOFFSETFROM:+0200
TZOFFSETTO:+0100
END:STANDARD
END:VTIMEZONE
END:VCALENDAR
