BEGIN:VCALENDAR
VERSION:2.0
PRODID:-//destination.one//NONSGML destination.meta API//DE
X-WR-CALDESC:A calendar powered by destination.meta
X-WR-CALNAME:saale-unstrut-tourismus Kalender via destination.meta
BEGIN:VEVENT
CATEGORIES:Wein & Genuss
CATEGORIES:Führung/Besichtigung
CATEGORIES:Genuss/Gourmet
DESCRIPTION:\n\nmehr Informationen unter http://pages.destination.one/de/sa
 ale-unstrut-tourismus/streaming/detail/Event/e_101253159/auf-einen-schluck
 -im-schlifter-weinbergf-hrung
DTEND;TZID=Europe/Berlin:20260430T150000
DTSTAMP:20260425T124716Z
DTSTART;TZID=Europe/Berlin:20260430T140000
GEO:51.212770;11.768740
LOCATION:Freyburg (Unstrut)\, \, Freyburg
ORGANIZER;CN=Freyburger Fremdenverkehrsverein e.V.:mailto:kontakt@freyburg.
 info
SEQUENCE:0
SUMMARY:Auf einen Schluck im Schlifter  - Weinbergführung
UID:e_101253159_iv0
URL:http://pages.destination.one/de/saale-unstrut-tourismus/streaming/detai
 l/Event/e_101253159/auf-einen-schluck-im-schlifter-weinbergf-hrung
END:VEVENT
BEGIN:VEVENT
CATEGORIES:Wein & Genuss
CATEGORIES:Führung/Besichtigung
CATEGORIES:Genuss/Gourmet
DESCRIPTION:\n\nmehr Informationen unter http://pages.destination.one/de/sa
 ale-unstrut-tourismus/streaming/detail/Event/e_101253159/auf-einen-schluck
 -im-schlifter-weinbergf-hrung
DTEND;TZID=Europe/Berlin:20260430T170000
DTSTAMP:20260425T124716Z
DTSTART;TZID=Europe/Berlin:20260430T160000
GEO:51.212770;11.768740
LOCATION:Freyburg (Unstrut)\, \, Freyburg
ORGANIZER;CN=Freyburger Fremdenverkehrsverein e.V.:mailto:kontakt@freyburg.
 info
SEQUENCE:0
SUMMARY:Auf einen Schluck im Schlifter  - Weinbergführung
UID:e_101253159_iv1
URL:http://pages.destination.one/de/saale-unstrut-tourismus/streaming/detai
 l/Event/e_101253159/auf-einen-schluck-im-schlifter-weinbergf-hrung
END:VEVENT
BEGIN:VEVENT
CATEGORIES:Wein & Genuss
CATEGORIES:Führung/Besichtigung
CATEGORIES:Genuss/Gourmet
DESCRIPTION:\n\nmehr Informationen unter http://pages.destination.one/de/sa
 ale-unstrut-tourismus/streaming/detail/Event/e_101253159/auf-einen-schluck
 -im-schlifter-weinbergf-hrung
DTEND;TZID=Europe/Berlin:20260430T190000
DTSTAMP:20260425T124716Z
DTSTART;TZID=Europe/Berlin:20260430T180000
GEO:51.212770;11.768740
LOCATION:Freyburg (Unstrut)\, \, Freyburg
ORGANIZER;CN=Freyburger Fremdenverkehrsverein e.V.:mailto:kontakt@freyburg.
 info
SEQUENCE:0
SUMMARY:Auf einen Schluck im Schlifter  - Weinbergführung
UID:e_101253159_iv2
URL:http://pages.destination.one/de/saale-unstrut-tourismus/streaming/detai
 l/Event/e_101253159/auf-einen-schluck-im-schlifter-weinbergf-hrung
END:VEVENT
BEGIN:VTIMEZONE
TZID:Europe/Berlin
X-LIC-LOCATION:Europe/Berlin
BEGIN:DAYLIGHT
DTSTART:19700329T020000
RRULE:FREQ=YEARLY;BYDAY=-1SU;BYMONTH=3
TZNAME:CEST
TZOFFSETFROM:+0100
TZOFFSETTO:+0200
END:DAYLIGHT
BEGIN:STANDARD
DTSTART:19701025T030000
RRULE:FREQ=YEARLY;BYDAY=-1SU;BYMONTH=10
TZNAME:CET
TZOFFSETFROM:+0200
TZOFFSETTO:+0100
END:STANDARD
END:VTIMEZONE
END:VCALENDAR
