BEGIN:VCALENDAR
VERSION:2.0
PRODID:-//destination.one//NONSGML destination.meta API//DE
X-WR-CALDESC:A calendar powered by destination.meta
X-WR-CALNAME:os-kalender Kalender via destination.meta
BEGIN:VEVENT
CATEGORIES:Festival
DESCRIPTION:Wurzeln in Teheran\, zuhause in Wien – Mahan Mirarabs Gitarre e
 rzählt Geschichten. Auf seinem Instrument webt er ehrliche\, intime Narrat
 ive von Migration\, Erinnerung und Zugehörigkeit. Seine Musik führt die fi
 ligranen Strukturen&nbsp\;&hellip\;\n\nmehr Informationen unter http://pag
 es.destination.one/de/os-kalender/streaming/detail/Event/B0332D4D6FBAB2EF5
 4739B19F634F39D/morgenland-festival-osnabr-ck-mahan-mirarab-feat-bernhard-
 schimpelsberger-shannon-barnett
DTEND;TZID=Europe/Berlin:20260602T220000
DTSTAMP:20260423T152333Z
DTSTART;TZID=Europe/Berlin:20260602T204500
GEO:52.276239;8.039343
LOCATION:Lagerhalle Osnabrück e.V.\, Rolandsmauer 26\, Osnabrück
ORGANIZER;CN=Lagerhalle Osnabrück e.V.:mailto:info@lagerhalle-os.de
SEQUENCE:0
SUMMARY:Morgenland Festival Osnabrück: Mahan Mirarab feat. Bernhard Schimpe
 lsberger & Shannon Barnett
UID:B0332D4D6FBAB2EF54739B19F634F39D_iv0
URL:http://pages.destination.one/de/os-kalender/streaming/detail/Event/B033
 2D4D6FBAB2EF54739B19F634F39D/morgenland-festival-osnabr-ck-mahan-mirarab-f
 eat-bernhard-schimpelsberger-shannon-barnett
END:VEVENT
BEGIN:VTIMEZONE
TZID:Europe/Berlin
X-LIC-LOCATION:Europe/Berlin
BEGIN:DAYLIGHT
DTSTART:19700329T020000
RRULE:FREQ=YEARLY;BYDAY=-1SU;BYMONTH=3
TZNAME:CEST
TZOFFSETFROM:+0100
TZOFFSETTO:+0200
END:DAYLIGHT
BEGIN:STANDARD
DTSTART:19701025T030000
RRULE:FREQ=YEARLY;BYDAY=-1SU;BYMONTH=10
TZNAME:CET
TZOFFSETFROM:+0200
TZOFFSETTO:+0100
END:STANDARD
END:VTIMEZONE
END:VCALENDAR
