BEGIN:VCALENDAR
VERSION:2.0
PRODID:-//destination.one//NONSGML destination.meta API//DE
X-WR-CALDESC:A calendar powered by destination.meta
X-WR-CALNAME:open-data-sachsen-tourismus Kalender via destination.meta
BEGIN:VEVENT
CATEGORIES:Bürgerangebot
CATEGORIES:Frühling
CATEGORIES:Sonstiges
DESCRIPTION:Freiwilliges Engagement zur Pflege und Instandhaltung des ältes
 ten regionalbotanischen Gartens von Sachsen.\n\nmehr Informationen unter h
 ttp://pages.destination.one/de/open-data-sachsen-tourismus/streaming/detai
 l/Event/e_101215066/mithelfen-im-botanischen-garten-bad-schandau
DTEND;TZID=Europe/Berlin:20260425T150000
DTSTAMP:20260421T101746Z
DTSTART;TZID=Europe/Berlin:20260425T090000
GEO:50.925316;14.165880
LOCATION:Botanischer Garten\, Pflanzengartenweg\, 01814 Bad Schandau\, Pfla
 nzengartenweg\, Bad Schandau
ORGANIZER;CN=Nationalpark- und Forstverwaltung Sächsische Schweiz:mailto:ve
 ranstaltungen.nlpfv@sachsenforst.sachsen.de
SEQUENCE:0
SUMMARY:Mithelfen im Botanischen Garten Bad Schandau
UID:e_101215066_iv0
URL:http://pages.destination.one/de/open-data-sachsen-tourismus/streaming/d
 etail/Event/e_101215066/mithelfen-im-botanischen-garten-bad-schandau
END:VEVENT
BEGIN:VTIMEZONE
TZID:Europe/Berlin
X-LIC-LOCATION:Europe/Berlin
BEGIN:DAYLIGHT
DTSTART:19700329T020000
RRULE:FREQ=YEARLY;BYDAY=-1SU;BYMONTH=3
TZNAME:CEST
TZOFFSETFROM:+0100
TZOFFSETTO:+0200
END:DAYLIGHT
BEGIN:STANDARD
DTSTART:19701025T030000
RRULE:FREQ=YEARLY;BYDAY=-1SU;BYMONTH=10
TZNAME:CET
TZOFFSETFROM:+0200
TZOFFSETTO:+0100
END:STANDARD
END:VTIMEZONE
END:VCALENDAR
