BEGIN:VCALENDAR
VERSION:2.0
PRODID:-//destination.one//NONSGML destination.meta API//DE
X-WR-CALDESC:A calendar powered by destination.meta
X-WR-CALNAME:niedersachsen-contenthub Kalender via destination.meta
BEGIN:VEVENT
CATEGORIES:... zu Fuß
CATEGORIES:Besichtigung & Führung sonstige
CATEGORIES:Themenführung
DESCRIPTION:Schöpfwerke schützen hauptsächlich vor Überflutung von innen un
 d außen.\n\nmehr Informationen unter http://pages.destination.one/de/niede
 rsachsen-contenthub/streaming/detail/Event/e_100273351/sch-pfwerksf-hrung-
 greetsiel
DTEND;TZID=Europe/Berlin:20260304T153000
DTSTAMP:20260423T084819Z
DTSTART;TZID=Europe/Berlin:20260304T140000
GEO:53.499008;7.098077
LOCATION:Treffpunkt: Vorplatz beim Fellhandel „Lüttje Schaap“\, Schulweg 1\
 , Krummhörn Greetsiel
ORGANIZER;CN=Touristik GmbH Krummhörn-Greetsiel:mailto:moin@greetsiel.de
RRULE:FREQ=WEEKLY;UNTIL=20261028T143000;BYDAY=WE
SEQUENCE:0
SUMMARY:Schöpfwerksführung Greetsiel
UID:e_100273351_iv0
URL:http://pages.destination.one/de/niedersachsen-contenthub/streaming/deta
 il/Event/e_100273351/sch-pfwerksf-hrung-greetsiel
END:VEVENT
BEGIN:VTIMEZONE
TZID:Europe/Berlin
X-LIC-LOCATION:Europe/Berlin
BEGIN:DAYLIGHT
DTSTART:19700329T020000
RRULE:FREQ=YEARLY;BYDAY=-1SU;BYMONTH=3
TZNAME:CEST
TZOFFSETFROM:+0100
TZOFFSETTO:+0200
END:DAYLIGHT
BEGIN:STANDARD
DTSTART:19701025T030000
RRULE:FREQ=YEARLY;BYDAY=-1SU;BYMONTH=10
TZNAME:CET
TZOFFSETFROM:+0200
TZOFFSETTO:+0100
END:STANDARD
END:VTIMEZONE
END:VCALENDAR
