BEGIN:VCALENDAR
VERSION:2.0
PRODID:-//destination.one//NONSGML destination.meta API//DE
X-WR-CALDESC:A calendar powered by destination.meta
X-WR-CALNAME:muehlhausen Kalender via destination.meta
BEGIN:VEVENT
CATEGORIES:Wissenschaft & Bildung
DESCRIPTION:Volkshochschule lädt zur kostenlosen Kursberatung in die Stadt-
 Werkstatt ein\n\nmehr Informationen unter http://pages.destination.one/de/
 muehlhausen/streaming/detail/Event/e_100976214/kostenlose-kursberatung-der
 -volkshochschule
DTEND;TZID=Europe/Berlin:20240705T120000
DTSTAMP:20260425T124718Z
DTSTART;TZID=Europe/Berlin:20240705T100000
GEO:51.209847;10.456694
LOCATION:Stadt-Werkstatt - Smart City\, Steinweg 4\, Mühlhausen/Thüringen
ORGANIZER;CN=Stadtverwaltung Mühlhausen/ Smart City:mailto:smartcity@muehlh
 ausen.de
RRULE:FREQ=WEEKLY;UNTIL=20240919T100000;BYDAY=FR
SEQUENCE:0
SUMMARY:Kostenlose Kursberatung der Volkshochschule
UID:e_100976214_iv0
URL:http://pages.destination.one/de/muehlhausen/streaming/detail/Event/e_10
 0976214/kostenlose-kursberatung-der-volkshochschule
END:VEVENT
BEGIN:VEVENT
CATEGORIES:Wissenschaft & Bildung
DESCRIPTION:Volkshochschule lädt zur kostenlosen Kursberatung in die Stadt-
 Werkstatt ein\n\nmehr Informationen unter http://pages.destination.one/de/
 muehlhausen/streaming/detail/Event/e_100976214/kostenlose-kursberatung-der
 -volkshochschule
DTEND;TZID=Europe/Berlin:20240927T120000
DTSTAMP:20260425T124718Z
DTSTART;TZID=Europe/Berlin:20240927T100000
GEO:51.209847;10.456694
LOCATION:Stadt-Werkstatt - Smart City\, Steinweg 4\, Mühlhausen/Thüringen
ORGANIZER;CN=Stadtverwaltung Mühlhausen/ Smart City:mailto:smartcity@muehlh
 ausen.de
RRULE:FREQ=WEEKLY;UNTIL=20241003T100000;BYDAY=FR
SEQUENCE:0
SUMMARY:Kostenlose Kursberatung der Volkshochschule
UID:e_100976214_iv1
URL:http://pages.destination.one/de/muehlhausen/streaming/detail/Event/e_10
 0976214/kostenlose-kursberatung-der-volkshochschule
END:VEVENT
BEGIN:VEVENT
CATEGORIES:Wissenschaft & Bildung
DESCRIPTION:Volkshochschule lädt zur kostenlosen Kursberatung in die Stadt-
 Werkstatt ein\n\nmehr Informationen unter http://pages.destination.one/de/
 muehlhausen/streaming/detail/Event/e_100976214/kostenlose-kursberatung-der
 -volkshochschule
DTEND;TZID=Europe/Berlin:20241018T120000
DTSTAMP:20260425T124718Z
DTSTART;TZID=Europe/Berlin:20241018T100000
GEO:51.209847;10.456694
LOCATION:Stadt-Werkstatt - Smart City\, Steinweg 4\, Mühlhausen/Thüringen
ORGANIZER;CN=Stadtverwaltung Mühlhausen/ Smart City:mailto:smartcity@muehlh
 ausen.de
RRULE:FREQ=WEEKLY;UNTIL=20241031T110000;BYDAY=FR
SEQUENCE:0
SUMMARY:Kostenlose Kursberatung der Volkshochschule
UID:e_100976214_iv2
URL:http://pages.destination.one/de/muehlhausen/streaming/detail/Event/e_10
 0976214/kostenlose-kursberatung-der-volkshochschule
END:VEVENT
BEGIN:VEVENT
CATEGORIES:Wissenschaft & Bildung
DESCRIPTION:Volkshochschule lädt zur kostenlosen Kursberatung in die Stadt-
 Werkstatt ein\n\nmehr Informationen unter http://pages.destination.one/de/
 muehlhausen/streaming/detail/Event/e_100976214/kostenlose-kursberatung-der
 -volkshochschule
DTEND;TZID=Europe/Berlin:20250103T120000
DTSTAMP:20260425T124718Z
DTSTART;TZID=Europe/Berlin:20250103T100000
GEO:51.209847;10.456694
LOCATION:Stadt-Werkstatt - Smart City\, Steinweg 4\, Mühlhausen/Thüringen
ORGANIZER;CN=Stadtverwaltung Mühlhausen/ Smart City:mailto:smartcity@muehlh
 ausen.de
RRULE:FREQ=WEEKLY;UNTIL=20250227T090000;BYDAY=FR
SEQUENCE:0
SUMMARY:Kostenlose Kursberatung der Volkshochschule
UID:e_100976214_iv3
URL:http://pages.destination.one/de/muehlhausen/streaming/detail/Event/e_10
 0976214/kostenlose-kursberatung-der-volkshochschule
END:VEVENT
BEGIN:VEVENT
CATEGORIES:Wissenschaft & Bildung
DESCRIPTION:Volkshochschule lädt zur kostenlosen Kursberatung in die Stadt-
 Werkstatt ein\n\nmehr Informationen unter http://pages.destination.one/de/
 muehlhausen/streaming/detail/Event/e_100976214/kostenlose-kursberatung-der
 -volkshochschule
DTEND;TZID=Europe/Berlin:20250228T120000
DTSTAMP:20260425T124718Z
DTSTART;TZID=Europe/Berlin:20250228T100000
GEO:51.209847;10.456694
LOCATION:Stadt-Werkstatt - Smart City\, Steinweg 4\, Mühlhausen/Thüringen
ORGANIZER;CN=Stadtverwaltung Mühlhausen/ Smart City:mailto:smartcity@muehlh
 ausen.de
RRULE:FREQ=WEEKLY;UNTIL=20250417T100000;BYDAY=FR
SEQUENCE:0
SUMMARY:Kostenlose Kursberatung der Volkshochschule
UID:e_100976214_iv4
URL:http://pages.destination.one/de/muehlhausen/streaming/detail/Event/e_10
 0976214/kostenlose-kursberatung-der-volkshochschule
END:VEVENT
BEGIN:VEVENT
CATEGORIES:Wissenschaft & Bildung
DESCRIPTION:Volkshochschule lädt zur kostenlosen Kursberatung in die Stadt-
 Werkstatt ein\n\nmehr Informationen unter http://pages.destination.one/de/
 muehlhausen/streaming/detail/Event/e_100976214/kostenlose-kursberatung-der
 -volkshochschule
DTEND;TZID=Europe/Berlin:20250425T120000
DTSTAMP:20260425T124718Z
DTSTART;TZID=Europe/Berlin:20250425T100000
GEO:51.209847;10.456694
LOCATION:Stadt-Werkstatt - Smart City\, Steinweg 4\, Mühlhausen/Thüringen
ORGANIZER;CN=Stadtverwaltung Mühlhausen/ Smart City:mailto:smartcity@muehlh
 ausen.de
RRULE:FREQ=WEEKLY;UNTIL=20250501T100000;BYDAY=FR
SEQUENCE:0
SUMMARY:Kostenlose Kursberatung der Volkshochschule
UID:e_100976214_iv5
URL:http://pages.destination.one/de/muehlhausen/streaming/detail/Event/e_10
 0976214/kostenlose-kursberatung-der-volkshochschule
END:VEVENT
BEGIN:VEVENT
CATEGORIES:Wissenschaft & Bildung
DESCRIPTION:Volkshochschule lädt zur kostenlosen Kursberatung in die Stadt-
 Werkstatt ein\n\nmehr Informationen unter http://pages.destination.one/de/
 muehlhausen/streaming/detail/Event/e_100976214/kostenlose-kursberatung-der
 -volkshochschule
DTEND;TZID=Europe/Berlin:20250509T120000
DTSTAMP:20260425T124718Z
DTSTART;TZID=Europe/Berlin:20250509T100000
GEO:51.209847;10.456694
LOCATION:Stadt-Werkstatt - Smart City\, Steinweg 4\, Mühlhausen/Thüringen
ORGANIZER;CN=Stadtverwaltung Mühlhausen/ Smart City:mailto:smartcity@muehlh
 ausen.de
RRULE:FREQ=WEEKLY;UNTIL=20250529T100000;BYDAY=FR
SEQUENCE:0
SUMMARY:Kostenlose Kursberatung der Volkshochschule
UID:e_100976214_iv6
URL:http://pages.destination.one/de/muehlhausen/streaming/detail/Event/e_10
 0976214/kostenlose-kursberatung-der-volkshochschule
END:VEVENT
BEGIN:VEVENT
CATEGORIES:Wissenschaft & Bildung
DESCRIPTION:Volkshochschule lädt zur kostenlosen Kursberatung in die Stadt-
 Werkstatt ein\n\nmehr Informationen unter http://pages.destination.one/de/
 muehlhausen/streaming/detail/Event/e_100976214/kostenlose-kursberatung-der
 -volkshochschule
DTEND;TZID=Europe/Berlin:20250606T120000
DTSTAMP:20260425T124718Z
DTSTART;TZID=Europe/Berlin:20250606T100000
GEO:51.209847;10.456694
LOCATION:Stadt-Werkstatt - Smart City\, Steinweg 4\, Mühlhausen/Thüringen
ORGANIZER;CN=Stadtverwaltung Mühlhausen/ Smart City:mailto:smartcity@muehlh
 ausen.de
RRULE:FREQ=WEEKLY;UNTIL=20250724T100000;BYDAY=FR
SEQUENCE:0
SUMMARY:Kostenlose Kursberatung der Volkshochschule
UID:e_100976214_iv7
URL:http://pages.destination.one/de/muehlhausen/streaming/detail/Event/e_10
 0976214/kostenlose-kursberatung-der-volkshochschule
END:VEVENT
BEGIN:VEVENT
CATEGORIES:Wissenschaft & Bildung
DESCRIPTION:Volkshochschule lädt zur kostenlosen Kursberatung in die Stadt-
 Werkstatt ein\n\nmehr Informationen unter http://pages.destination.one/de/
 muehlhausen/streaming/detail/Event/e_100976214/kostenlose-kursberatung-der
 -volkshochschule
DTEND;TZID=Europe/Berlin:20250801T120000
DTSTAMP:20260425T124718Z
DTSTART;TZID=Europe/Berlin:20250801T100000
GEO:51.209847;10.456694
LOCATION:Stadt-Werkstatt - Smart City\, Steinweg 4\, Mühlhausen/Thüringen
ORGANIZER;CN=Stadtverwaltung Mühlhausen/ Smart City:mailto:smartcity@muehlh
 ausen.de
RRULE:FREQ=WEEKLY;UNTIL=20251002T100000;BYDAY=FR
SEQUENCE:0
SUMMARY:Kostenlose Kursberatung der Volkshochschule
UID:e_100976214_iv8
URL:http://pages.destination.one/de/muehlhausen/streaming/detail/Event/e_10
 0976214/kostenlose-kursberatung-der-volkshochschule
END:VEVENT
BEGIN:VEVENT
CATEGORIES:Wissenschaft & Bildung
DESCRIPTION:Volkshochschule lädt zur kostenlosen Kursberatung in die Stadt-
 Werkstatt ein\n\nmehr Informationen unter http://pages.destination.one/de/
 muehlhausen/streaming/detail/Event/e_100976214/kostenlose-kursberatung-der
 -volkshochschule
DTEND;TZID=Europe/Berlin:20251017T120000
DTSTAMP:20260425T124718Z
DTSTART;TZID=Europe/Berlin:20251017T100000
GEO:51.209847;10.456694
LOCATION:Stadt-Werkstatt - Smart City\, Steinweg 4\, Mühlhausen/Thüringen
ORGANIZER;CN=Stadtverwaltung Mühlhausen/ Smart City:mailto:smartcity@muehlh
 ausen.de
RRULE:FREQ=WEEKLY;UNTIL=20251030T110000;BYDAY=FR
SEQUENCE:0
SUMMARY:Kostenlose Kursberatung der Volkshochschule
UID:e_100976214_iv9
URL:http://pages.destination.one/de/muehlhausen/streaming/detail/Event/e_10
 0976214/kostenlose-kursberatung-der-volkshochschule
END:VEVENT
BEGIN:VEVENT
CATEGORIES:Wissenschaft & Bildung
DESCRIPTION:Volkshochschule lädt zur kostenlosen Kursberatung in die Stadt-
 Werkstatt ein\n\nmehr Informationen unter http://pages.destination.one/de/
 muehlhausen/streaming/detail/Event/e_100976214/kostenlose-kursberatung-der
 -volkshochschule
DTEND;TZID=Europe/Berlin:20251107T120000
DTSTAMP:20260425T124718Z
DTSTART;TZID=Europe/Berlin:20251107T100000
GEO:51.209847;10.456694
LOCATION:Stadt-Werkstatt - Smart City\, Steinweg 4\, Mühlhausen/Thüringen
ORGANIZER;CN=Stadtverwaltung Mühlhausen/ Smart City:mailto:smartcity@muehlh
 ausen.de
RRULE:FREQ=WEEKLY;UNTIL=20251219T110000;BYDAY=FR
SEQUENCE:0
SUMMARY:Kostenlose Kursberatung der Volkshochschule
UID:e_100976214_iv10
URL:http://pages.destination.one/de/muehlhausen/streaming/detail/Event/e_10
 0976214/kostenlose-kursberatung-der-volkshochschule
END:VEVENT
BEGIN:VEVENT
CATEGORIES:Wissenschaft & Bildung
DESCRIPTION:Volkshochschule lädt zur kostenlosen Kursberatung in die Stadt-
 Werkstatt ein\n\nmehr Informationen unter http://pages.destination.one/de/
 muehlhausen/streaming/detail/Event/e_100976214/kostenlose-kursberatung-der
 -volkshochschule
DTEND;TZID=Europe/Berlin:20260109T120000
DTSTAMP:20260425T124718Z
DTSTART;TZID=Europe/Berlin:20260109T100000
GEO:51.209847;10.456694
LOCATION:Stadt-Werkstatt - Smart City\, Steinweg 4\, Mühlhausen/Thüringen
ORGANIZER;CN=Stadtverwaltung Mühlhausen/ Smart City:mailto:smartcity@muehlh
 ausen.de
RRULE:FREQ=WEEKLY;UNTIL=20260402T100000;BYDAY=FR
SEQUENCE:0
SUMMARY:Kostenlose Kursberatung der Volkshochschule
UID:e_100976214_iv11
URL:http://pages.destination.one/de/muehlhausen/streaming/detail/Event/e_10
 0976214/kostenlose-kursberatung-der-volkshochschule
END:VEVENT
BEGIN:VEVENT
CATEGORIES:Wissenschaft & Bildung
DESCRIPTION:Volkshochschule lädt zur kostenlosen Kursberatung in die Stadt-
 Werkstatt ein\n\nmehr Informationen unter http://pages.destination.one/de/
 muehlhausen/streaming/detail/Event/e_100976214/kostenlose-kursberatung-der
 -volkshochschule
DTEND;TZID=Europe/Berlin:20260410T120000
DTSTAMP:20260425T124718Z
DTSTART;TZID=Europe/Berlin:20260410T100000
GEO:51.209847;10.456694
LOCATION:Stadt-Werkstatt - Smart City\, Steinweg 4\, Mühlhausen/Thüringen
ORGANIZER;CN=Stadtverwaltung Mühlhausen/ Smart City:mailto:smartcity@muehlh
 ausen.de
RRULE:FREQ=WEEKLY;UNTIL=20260430T100000;BYDAY=FR
SEQUENCE:0
SUMMARY:Kostenlose Kursberatung der Volkshochschule
UID:e_100976214_iv12
URL:http://pages.destination.one/de/muehlhausen/streaming/detail/Event/e_10
 0976214/kostenlose-kursberatung-der-volkshochschule
END:VEVENT
BEGIN:VEVENT
CATEGORIES:Wissenschaft & Bildung
DESCRIPTION:Volkshochschule lädt zur kostenlosen Kursberatung in die Stadt-
 Werkstatt ein\n\nmehr Informationen unter http://pages.destination.one/de/
 muehlhausen/streaming/detail/Event/e_100976214/kostenlose-kursberatung-der
 -volkshochschule
DTEND;TZID=Europe/Berlin:20260508T120000
DTSTAMP:20260425T124718Z
DTSTART;TZID=Europe/Berlin:20260508T100000
GEO:51.209847;10.456694
LOCATION:Stadt-Werkstatt - Smart City\, Steinweg 4\, Mühlhausen/Thüringen
ORGANIZER;CN=Stadtverwaltung Mühlhausen/ Smart City:mailto:smartcity@muehlh
 ausen.de
RRULE:FREQ=WEEKLY;UNTIL=20260514T100000;BYDAY=FR
SEQUENCE:0
SUMMARY:Kostenlose Kursberatung der Volkshochschule
UID:e_100976214_iv13
URL:http://pages.destination.one/de/muehlhausen/streaming/detail/Event/e_10
 0976214/kostenlose-kursberatung-der-volkshochschule
END:VEVENT
BEGIN:VEVENT
CATEGORIES:Wissenschaft & Bildung
DESCRIPTION:Volkshochschule lädt zur kostenlosen Kursberatung in die Stadt-
 Werkstatt ein\n\nmehr Informationen unter http://pages.destination.one/de/
 muehlhausen/streaming/detail/Event/e_100976214/kostenlose-kursberatung-der
 -volkshochschule
DTEND;TZID=Europe/Berlin:20260522T120000
DTSTAMP:20260425T124718Z
DTSTART;TZID=Europe/Berlin:20260522T100000
GEO:51.209847;10.456694
LOCATION:Stadt-Werkstatt - Smart City\, Steinweg 4\, Mühlhausen/Thüringen
ORGANIZER;CN=Stadtverwaltung Mühlhausen/ Smart City:mailto:smartcity@muehlh
 ausen.de
RRULE:FREQ=WEEKLY;UNTIL=20261218T110000;BYDAY=FR
SEQUENCE:0
SUMMARY:Kostenlose Kursberatung der Volkshochschule
UID:e_100976214_iv14
URL:http://pages.destination.one/de/muehlhausen/streaming/detail/Event/e_10
 0976214/kostenlose-kursberatung-der-volkshochschule
END:VEVENT
BEGIN:VTIMEZONE
TZID:Europe/Berlin
X-LIC-LOCATION:Europe/Berlin
BEGIN:DAYLIGHT
DTSTART:19700329T020000
RRULE:FREQ=YEARLY;BYDAY=-1SU;BYMONTH=3
TZNAME:CEST
TZOFFSETFROM:+0100
TZOFFSETTO:+0200
END:DAYLIGHT
BEGIN:STANDARD
DTSTART:19701025T030000
RRULE:FREQ=YEARLY;BYDAY=-1SU;BYMONTH=10
TZNAME:CET
TZOFFSETFROM:+0200
TZOFFSETTO:+0100
END:STANDARD
END:VTIMEZONE
END:VCALENDAR
