BEGIN:VCALENDAR
VERSION:2.0
PRODID:-//destination.one//NONSGML destination.meta API//DE
X-WR-CALDESC:A calendar powered by destination.meta
X-WR-CALNAME:miltenberg Kalender via destination.meta
BEGIN:VEVENT
CATEGORIES:Brauchtum/Kultur
CATEGORIES:Feste/Bälle/Tanz
DESCRIPTION:\n\nmehr Informationen unter http://pages.destination.one/de/mi
 ltenberg/streaming/detail/Event/e_100592998/maibaumaufstellung
DTEND;TZID=Europe/Berlin:20230430T210000
DTSTAMP:20260424T163203Z
DTSTART;TZID=Europe/Berlin:20230430T160000
GEO:49.701142;9.257870
LOCATION:Engelplatz\, Engelplatz\, Miltenberg
SEQUENCE:0
SUMMARY:Maibaumaufstellung
UID:e_100592998_iv0
URL:http://pages.destination.one/de/miltenberg/streaming/detail/Event/e_100
 592998/maibaumaufstellung
END:VEVENT
BEGIN:VEVENT
CATEGORIES:Brauchtum/Kultur
CATEGORIES:Feste/Bälle/Tanz
DESCRIPTION:\n\nmehr Informationen unter http://pages.destination.one/de/mi
 ltenberg/streaming/detail/Event/e_100592998/maibaumaufstellung
DTEND;TZID=Europe/Berlin:20240430T210000
DTSTAMP:20260424T163203Z
DTSTART;TZID=Europe/Berlin:20240430T160000
GEO:49.701142;9.257870
LOCATION:Engelplatz\, Engelplatz\, Miltenberg
SEQUENCE:0
SUMMARY:Maibaumaufstellung
UID:e_100592998_iv1
URL:http://pages.destination.one/de/miltenberg/streaming/detail/Event/e_100
 592998/maibaumaufstellung
END:VEVENT
BEGIN:VEVENT
CATEGORIES:Brauchtum/Kultur
CATEGORIES:Feste/Bälle/Tanz
DESCRIPTION:\n\nmehr Informationen unter http://pages.destination.one/de/mi
 ltenberg/streaming/detail/Event/e_100592998/maibaumaufstellung
DTEND;TZID=Europe/Berlin:20250430T210000
DTSTAMP:20260424T163203Z
DTSTART;TZID=Europe/Berlin:20250430T160000
GEO:49.701142;9.257870
LOCATION:Engelplatz\, Engelplatz\, Miltenberg
SEQUENCE:0
SUMMARY:Maibaumaufstellung
UID:e_100592998_iv2
URL:http://pages.destination.one/de/miltenberg/streaming/detail/Event/e_100
 592998/maibaumaufstellung
END:VEVENT
BEGIN:VEVENT
CATEGORIES:Brauchtum/Kultur
CATEGORIES:Feste/Bälle/Tanz
DESCRIPTION:\n\nmehr Informationen unter http://pages.destination.one/de/mi
 ltenberg/streaming/detail/Event/e_100592998/maibaumaufstellung
DTEND;TZID=Europe/Berlin:20260430T210000
DTSTAMP:20260424T163203Z
DTSTART;TZID=Europe/Berlin:20260430T160000
GEO:49.701142;9.257870
LOCATION:Engelplatz\, Engelplatz\, Miltenberg
SEQUENCE:0
SUMMARY:Maibaumaufstellung
UID:e_100592998_iv3
URL:http://pages.destination.one/de/miltenberg/streaming/detail/Event/e_100
 592998/maibaumaufstellung
END:VEVENT
BEGIN:VTIMEZONE
TZID:Europe/Berlin
X-LIC-LOCATION:Europe/Berlin
BEGIN:DAYLIGHT
DTSTART:19700329T020000
RRULE:FREQ=YEARLY;BYDAY=-1SU;BYMONTH=3
TZNAME:CEST
TZOFFSETFROM:+0100
TZOFFSETTO:+0200
END:DAYLIGHT
BEGIN:STANDARD
DTSTART:19701025T030000
RRULE:FREQ=YEARLY;BYDAY=-1SU;BYMONTH=10
TZNAME:CET
TZOFFSETFROM:+0200
TZOFFSETTO:+0100
END:STANDARD
END:VTIMEZONE
END:VCALENDAR
