BEGIN:VCALENDAR
VERSION:2.0
PRODID:-//destination.one//NONSGML destination.meta API//DE
X-WR-CALDESC:A calendar powered by destination.meta
X-WR-CALNAME:marketing-gandersheim Kalender via destination.meta
BEGIN:VEVENT
CATEGORIES:Vortrag\, Diskussion\, Lesung sonstige
DESCRIPTION:Roswitha von Gandersheim war nicht nur Kanonisse des Gandershei
 mer Frauenstifts\, sondern wird vor allem als erste deutsche Dichterin und
  große Literatin gerühmt.\n\nmehr Informationen unter http://pages.destina
 tion.one/de/marketing-gandersheim/streaming/detail/Event/e_101174905/roswi
 tha-bei-kerzenschein-was-wissen-wir-wirklich-ber-roswitha-portal-zur-gesch
 ichte
DTEND;TZID=Europe/Berlin:20260417T210000
DTSTAMP:20260421T160956Z
DTSTART;TZID=Europe/Berlin:20260417T200000
GEO:51.870325;10.026142
LOCATION:Stiftskirche - Portal zur Geschichte\, Stiftsfreiheit 1\, Bad Gand
 ersheim
ORGANIZER;CN=Portal zur Geschichte:mailto:info@portal-zur-geschichte.de
SEQUENCE:0
SUMMARY:Roswitha bei Kerzenschein: Was wissen wir wirklich über Roswitha? -
  Portal zur Geschichte
UID:e_101174905_iv0
URL:http://pages.destination.one/de/marketing-gandersheim/streaming/detail/
 Event/e_101174905/roswitha-bei-kerzenschein-was-wissen-wir-wirklich-ber-ro
 switha-portal-zur-geschichte
END:VEVENT
BEGIN:VEVENT
CATEGORIES:Vortrag\, Diskussion\, Lesung sonstige
DESCRIPTION:Roswitha von Gandersheim war nicht nur Kanonisse des Gandershei
 mer Frauenstifts\, sondern wird vor allem als erste deutsche Dichterin und
  große Literatin gerühmt.\n\nmehr Informationen unter http://pages.destina
 tion.one/de/marketing-gandersheim/streaming/detail/Event/e_101174905/roswi
 tha-bei-kerzenschein-was-wissen-wir-wirklich-ber-roswitha-portal-zur-gesch
 ichte
DTEND;TZID=Europe/Berlin:20260918T210000
DTSTAMP:20260421T160956Z
DTSTART;TZID=Europe/Berlin:20260918T200000
GEO:51.870325;10.026142
LOCATION:Stiftskirche - Portal zur Geschichte\, Stiftsfreiheit 1\, Bad Gand
 ersheim
ORGANIZER;CN=Portal zur Geschichte:mailto:info@portal-zur-geschichte.de
SEQUENCE:0
SUMMARY:Roswitha bei Kerzenschein: Was wissen wir wirklich über Roswitha? -
  Portal zur Geschichte
UID:e_101174905_iv1
URL:http://pages.destination.one/de/marketing-gandersheim/streaming/detail/
 Event/e_101174905/roswitha-bei-kerzenschein-was-wissen-wir-wirklich-ber-ro
 switha-portal-zur-geschichte
END:VEVENT
BEGIN:VEVENT
CATEGORIES:Vortrag\, Diskussion\, Lesung sonstige
DESCRIPTION:Roswitha von Gandersheim war nicht nur Kanonisse des Gandershei
 mer Frauenstifts\, sondern wird vor allem als erste deutsche Dichterin und
  große Literatin gerühmt.\n\nmehr Informationen unter http://pages.destina
 tion.one/de/marketing-gandersheim/streaming/detail/Event/e_101174905/roswi
 tha-bei-kerzenschein-was-wissen-wir-wirklich-ber-roswitha-portal-zur-gesch
 ichte
DTEND;TZID=Europe/Berlin:20261009T200000
DTSTAMP:20260421T160956Z
DTSTART;TZID=Europe/Berlin:20261009T190000
GEO:51.870325;10.026142
LOCATION:Stiftskirche - Portal zur Geschichte\, Stiftsfreiheit 1\, Bad Gand
 ersheim
ORGANIZER;CN=Portal zur Geschichte:mailto:info@portal-zur-geschichte.de
SEQUENCE:0
SUMMARY:Roswitha bei Kerzenschein: Was wissen wir wirklich über Roswitha? -
  Portal zur Geschichte
UID:e_101174905_iv2
URL:http://pages.destination.one/de/marketing-gandersheim/streaming/detail/
 Event/e_101174905/roswitha-bei-kerzenschein-was-wissen-wir-wirklich-ber-ro
 switha-portal-zur-geschichte
END:VEVENT
BEGIN:VEVENT
CATEGORIES:Vortrag\, Diskussion\, Lesung sonstige
DESCRIPTION:Roswitha von Gandersheim war nicht nur Kanonisse des Gandershei
 mer Frauenstifts\, sondern wird vor allem als erste deutsche Dichterin und
  große Literatin gerühmt.\n\nmehr Informationen unter http://pages.destina
 tion.one/de/marketing-gandersheim/streaming/detail/Event/e_101174905/roswi
 tha-bei-kerzenschein-was-wissen-wir-wirklich-ber-roswitha-portal-zur-gesch
 ichte
DTEND;TZID=Europe/Berlin:20261101T180000
DTSTAMP:20260421T160956Z
DTSTART;TZID=Europe/Berlin:20261101T170000
GEO:51.870325;10.026142
LOCATION:Stiftskirche - Portal zur Geschichte\, Stiftsfreiheit 1\, Bad Gand
 ersheim
ORGANIZER;CN=Portal zur Geschichte:mailto:info@portal-zur-geschichte.de
SEQUENCE:0
SUMMARY:Roswitha bei Kerzenschein: Was wissen wir wirklich über Roswitha? -
  Portal zur Geschichte
UID:e_101174905_iv3
URL:http://pages.destination.one/de/marketing-gandersheim/streaming/detail/
 Event/e_101174905/roswitha-bei-kerzenschein-was-wissen-wir-wirklich-ber-ro
 switha-portal-zur-geschichte
END:VEVENT
BEGIN:VTIMEZONE
TZID:Europe/Berlin
X-LIC-LOCATION:Europe/Berlin
BEGIN:DAYLIGHT
DTSTART:19700329T020000
RRULE:FREQ=YEARLY;BYDAY=-1SU;BYMONTH=3
TZNAME:CEST
TZOFFSETFROM:+0100
TZOFFSETTO:+0200
END:DAYLIGHT
BEGIN:STANDARD
DTSTART:19701025T030000
RRULE:FREQ=YEARLY;BYDAY=-1SU;BYMONTH=10
TZNAME:CET
TZOFFSETFROM:+0200
TZOFFSETTO:+0100
END:STANDARD
END:VTIMEZONE
END:VCALENDAR
