BEGIN:VCALENDAR
VERSION:2.0
PRODID:-//destination.one//NONSGML destination.meta API//DE
X-WR-CALDESC:A calendar powered by destination.meta
X-WR-CALNAME:lengerich-emsland Kalender via destination.meta
BEGIN:VEVENT
CATEGORIES:Kultur
CATEGORIES:Theater\, Musik & Show
DESCRIPTION:\n\nmehr Informationen unter http://pages.destination.one/de/le
 ngerich-emsland/streaming/detail/Event/e_101251784/benefizkonzert-des-gosp
 elchores-sustrum-moor
DTEND;TZID=Europe/Berlin:20260426T190000
DTSTAMP:20260420T135508Z
DTSTART;TZID=Europe/Berlin:20260426T170000
GEO:52.599587;7.411759
LOCATION:Kath. Kirche St. Alexander Bawinkel\, Bahnhofstraße 2\, Bawinkel
ORGANIZER;CN=Gospelchor Susturm-Moor:mailto:info@gospelchor-sustrum-moor.de
SEQUENCE:0
SUMMARY:Benefizkonzert des Gospelchores Sustrum-Moor
UID:e_101251784_iv0
URL:http://pages.destination.one/de/lengerich-emsland/streaming/detail/Even
 t/e_101251784/benefizkonzert-des-gospelchores-sustrum-moor
END:VEVENT
BEGIN:VTIMEZONE
TZID:Europe/Berlin
X-LIC-LOCATION:Europe/Berlin
BEGIN:DAYLIGHT
DTSTART:19700329T020000
RRULE:FREQ=YEARLY;BYDAY=-1SU;BYMONTH=3
TZNAME:CEST
TZOFFSETFROM:+0100
TZOFFSETTO:+0200
END:DAYLIGHT
BEGIN:STANDARD
DTSTART:19701025T030000
RRULE:FREQ=YEARLY;BYDAY=-1SU;BYMONTH=10
TZNAME:CET
TZOFFSETFROM:+0200
TZOFFSETTO:+0100
END:STANDARD
END:VTIMEZONE
END:VCALENDAR
