BEGIN:VCALENDAR
VERSION:2.0
PRODID:-//destination.one//NONSGML destination.meta API//DE
X-WR-CALDESC:A calendar powered by destination.meta
X-WR-CALNAME:karlshagen Kalender via destination.meta
BEGIN:VEVENT
CATEGORIES:Kunst
DESCRIPTION:\n\nmehr Informationen unter http://pages.destination.one/de/ka
 rlshagen/streaming/detail/Event/e_100127195/wiederer-ffnung-kleine-hafenga
 lerie
DTEND;TZID=Europe/Berlin:20250515T170000
DTSTAMP:20260421T182525Z
DTSTART;TZID=Europe/Berlin:20250515T140000
GEO:54.108480;13.810840
LOCATION:Yacht- und Fischereihafen Karlshagen\, Am Hafen 5\, Karlshagen
SEQUENCE:0
SUMMARY:Wiedereröffnung "Kleine Hafengalerie"
UID:e_100127195_iv0
URL:http://pages.destination.one/de/karlshagen/streaming/detail/Event/e_100
 127195/wiederer-ffnung-kleine-hafengalerie
END:VEVENT
BEGIN:VEVENT
CATEGORIES:Kunst
DESCRIPTION:\n\nmehr Informationen unter http://pages.destination.one/de/ka
 rlshagen/streaming/detail/Event/e_100127195/wiederer-ffnung-kleine-hafenga
 lerie
DTEND;TZID=Europe/Berlin:20260514T180000
DTSTAMP:20260421T182525Z
DTSTART;TZID=Europe/Berlin:20260514T160000
GEO:54.108480;13.810840
LOCATION:Yacht- und Fischereihafen Karlshagen\, Am Hafen 5\, Karlshagen
SEQUENCE:0
SUMMARY:Wiedereröffnung "Kleine Hafengalerie"
UID:e_100127195_iv1
URL:http://pages.destination.one/de/karlshagen/streaming/detail/Event/e_100
 127195/wiederer-ffnung-kleine-hafengalerie
END:VEVENT
BEGIN:VTIMEZONE
TZID:Europe/Berlin
X-LIC-LOCATION:Europe/Berlin
BEGIN:DAYLIGHT
DTSTART:19700329T020000
RRULE:FREQ=YEARLY;BYDAY=-1SU;BYMONTH=3
TZNAME:CEST
TZOFFSETFROM:+0100
TZOFFSETTO:+0200
END:DAYLIGHT
BEGIN:STANDARD
DTSTART:19701025T030000
RRULE:FREQ=YEARLY;BYDAY=-1SU;BYMONTH=10
TZNAME:CET
TZOFFSETFROM:+0200
TZOFFSETTO:+0100
END:STANDARD
END:VTIMEZONE
END:VCALENDAR
