BEGIN:VCALENDAR
VERSION:2.0
PRODID:-//destination.one//NONSGML destination.meta API//DE
X-WR-CALDESC:A calendar powered by destination.meta
X-WR-CALNAME:hagen-atw Kalender via destination.meta
BEGIN:VEVENT
CATEGORIES:Fitness
CATEGORIES:Fußball
CATEGORIES:Gesundheit sonstige
CATEGORIES:Handball
CATEGORIES:Leichtathletik
CATEGORIES:Radsport
CATEGORIES:Sport sonstige
CATEGORIES:Tag der offenen Tür
CATEGORIES:Tanzen
CATEGORIES:Tennis
CATEGORIES:Turnen
DESCRIPTION:\n\nmehr Informationen unter http://pages.destination.one/de/ha
 gen-atw/streaming/detail/Event/e_101222338/tag-der-bewegung-der-spvg-niede
 rmark
DTEND;TZID=Europe/Berlin:20260426T170000
DTSTAMP:20260420T011425Z
DTSTART;TZID=Europe/Berlin:20260426T130000
GEO:52.201240;7.942390
LOCATION:In und um der großen Turnhalle in Gellenbeck\, Görsmannstr. 14\, H
 agen am Teutoburger Wald
ORGANIZER;CN=Tag der Bewegung der Spvg. Niedermark:mailto:info@spvg-niederm
 ark.de
SEQUENCE:0
SUMMARY:Tag der Bewegung der Spvg. Niedermark
UID:e_101222338_iv0
URL:http://pages.destination.one/de/hagen-atw/streaming/detail/Event/e_1012
 22338/tag-der-bewegung-der-spvg-niedermark
END:VEVENT
BEGIN:VTIMEZONE
TZID:Europe/Berlin
X-LIC-LOCATION:Europe/Berlin
BEGIN:DAYLIGHT
DTSTART:19700329T020000
RRULE:FREQ=YEARLY;BYDAY=-1SU;BYMONTH=3
TZNAME:CEST
TZOFFSETFROM:+0100
TZOFFSETTO:+0200
END:DAYLIGHT
BEGIN:STANDARD
DTSTART:19701025T030000
RRULE:FREQ=YEARLY;BYDAY=-1SU;BYMONTH=10
TZNAME:CET
TZOFFSETFROM:+0200
TZOFFSETTO:+0100
END:STANDARD
END:VTIMEZONE
END:VCALENDAR
