BEGIN:VCALENDAR
VERSION:2.0
PRODID:-//destination.one//NONSGML destination.meta API//DE
X-WR-CALDESC:A calendar powered by destination.meta
X-WR-CALNAME:hagen-atw Kalender via destination.meta
BEGIN:VEVENT
CATEGORIES:... zu Fuß
CATEGORIES:Führung
CATEGORIES:Naturführung
CATEGORIES:Exkursion
CATEGORIES:Wandern
DESCRIPTION:\n\nmehr Informationen unter http://pages.destination.one/de/ha
 gen-atw/streaming/detail/Event/e_101156394/nicht-alles-was-gl-nzt-ist-silb
 er-entdeckungstour-vom-h-ggel-auf-den-silberberg
DTEND;TZID=Europe/Berlin:20260620T140000
DTSTAMP:20260421T043433Z
DTSTART;TZID=Europe/Berlin:20260620T110000
GEO:52.217343;7.967395
LOCATION:Parkplatz Gaststätte zum Jägerberg\, Jägerberg 40\, \, Hagen am Te
 utoburger Wald
ORGANIZER;CN=Natur- und Geopark TERRA.vita:mailto:info@geopark-terravita.de
SEQUENCE:0
SUMMARY:Nicht alles was glänzt ist Silber: Entdeckungstour vom Hüggel auf d
 en Silberberg
UID:e_101156394_iv0
URL:http://pages.destination.one/de/hagen-atw/streaming/detail/Event/e_1011
 56394/nicht-alles-was-gl-nzt-ist-silber-entdeckungstour-vom-h-ggel-auf-den
 -silberberg
END:VEVENT
BEGIN:VTIMEZONE
TZID:Europe/Berlin
X-LIC-LOCATION:Europe/Berlin
BEGIN:DAYLIGHT
DTSTART:19700329T020000
RRULE:FREQ=YEARLY;BYDAY=-1SU;BYMONTH=3
TZNAME:CEST
TZOFFSETFROM:+0100
TZOFFSETTO:+0200
END:DAYLIGHT
BEGIN:STANDARD
DTSTART:19701025T030000
RRULE:FREQ=YEARLY;BYDAY=-1SU;BYMONTH=10
TZNAME:CET
TZOFFSETFROM:+0200
TZOFFSETTO:+0100
END:STANDARD
END:VTIMEZONE
END:VCALENDAR
