BEGIN:VCALENDAR
VERSION:2.0
PRODID:-//destination.one//NONSGML destination.meta API//DE
X-WR-CALDESC:A calendar powered by destination.meta
X-WR-CALNAME:hagen-atw Kalender via destination.meta
BEGIN:VEVENT
CATEGORIES:Versammlung
DESCRIPTION:\n\nmehr Informationen unter http://pages.destination.one/de/ha
 gen-atw/streaming/detail/Event/e_101115983/schulentlassungsfeier-obs-hagen
 -a-t-w
DTEND;TZID=Europe/Berlin;VALUE=DATE:20260620
DTSTAMP:20260420T010741Z
DTSTART;TZID=Europe/Berlin;VALUE=DATE:20260618
GEO:52.196407;7.978442
LOCATION:Ehemalige Kirche Hagen a.T.W.\, Martinistraße 4\, Hagen am Teutobu
 rger Wald
ORGANIZER;CN=Oberschule Hagen a.T. W.:mailto:info@oberschule-hagen-atw.de
SEQUENCE:0
SUMMARY:Schulentlassungsfeier OBS Hagen a.T.W.
UID:e_101115983_iv0
URL:http://pages.destination.one/de/hagen-atw/streaming/detail/Event/e_1011
 15983/schulentlassungsfeier-obs-hagen-a-t-w
END:VEVENT
BEGIN:VTIMEZONE
TZID:Europe/Berlin
X-LIC-LOCATION:Europe/Berlin
BEGIN:DAYLIGHT
DTSTART:19700329T020000
RRULE:FREQ=YEARLY;BYDAY=-1SU;BYMONTH=3
TZNAME:CEST
TZOFFSETFROM:+0100
TZOFFSETTO:+0200
END:DAYLIGHT
BEGIN:STANDARD
DTSTART:19701025T030000
RRULE:FREQ=YEARLY;BYDAY=-1SU;BYMONTH=10
TZNAME:CET
TZOFFSETFROM:+0200
TZOFFSETTO:+0100
END:STANDARD
END:VTIMEZONE
END:VCALENDAR
