BEGIN:VCALENDAR
VERSION:2.0
PRODID:-//destination.one//NONSGML destination.meta API//DE
X-WR-CALDESC:A calendar powered by destination.meta
X-WR-CALNAME:badiburg Kalender via destination.meta
BEGIN:VEVENT
CATEGORIES:Wellness
CATEGORIES:Gesundheit sonstige
DESCRIPTION:Die Schönheit eines Klanges zeigt sich nicht nur in dem\, was w
 ir hören\, sondern auch in dem was wir spüren. (Franz-Josef König)\n\nmehr
  Informationen unter http://pages.destination.one/de/badiburg/streaming/de
 tail/Event/e_100468315/klangreisen-in-der-salzgrotte
DTEND;TZID=Europe/Berlin:20260419T160000
DTSTAMP:20260422T174703Z
DTSTART;TZID=Europe/Berlin:20260419T150000
GEO:52.106771;8.091121
LOCATION:Blombergklinik\, Remseder Straße 3\, Bad Laer
SEQUENCE:0
SUMMARY:KlangReisen in der Salzgrotte
UID:e_100468315_iv0
URL:http://pages.destination.one/de/badiburg/streaming/detail/Event/e_10046
 8315/klangreisen-in-der-salzgrotte
END:VEVENT
BEGIN:VEVENT
CATEGORIES:Wellness
CATEGORIES:Gesundheit sonstige
DESCRIPTION:Die Schönheit eines Klanges zeigt sich nicht nur in dem\, was w
 ir hören\, sondern auch in dem was wir spüren. (Franz-Josef König)\n\nmehr
  Informationen unter http://pages.destination.one/de/badiburg/streaming/de
 tail/Event/e_100468315/klangreisen-in-der-salzgrotte
DTEND;TZID=Europe/Berlin:20260510T160000
DTSTAMP:20260422T174703Z
DTSTART;TZID=Europe/Berlin:20260510T150000
GEO:52.106771;8.091121
LOCATION:Blombergklinik\, Remseder Straße 3\, Bad Laer
SEQUENCE:0
SUMMARY:KlangReisen in der Salzgrotte
UID:e_100468315_iv1
URL:http://pages.destination.one/de/badiburg/streaming/detail/Event/e_10046
 8315/klangreisen-in-der-salzgrotte
END:VEVENT
BEGIN:VEVENT
CATEGORIES:Wellness
CATEGORIES:Gesundheit sonstige
DESCRIPTION:Die Schönheit eines Klanges zeigt sich nicht nur in dem\, was w
 ir hören\, sondern auch in dem was wir spüren. (Franz-Josef König)\n\nmehr
  Informationen unter http://pages.destination.one/de/badiburg/streaming/de
 tail/Event/e_100468315/klangreisen-in-der-salzgrotte
DTEND;TZID=Europe/Berlin:20260607T160000
DTSTAMP:20260422T174703Z
DTSTART;TZID=Europe/Berlin:20260607T150000
GEO:52.106771;8.091121
LOCATION:Blombergklinik\, Remseder Straße 3\, Bad Laer
SEQUENCE:0
SUMMARY:KlangReisen in der Salzgrotte
UID:e_100468315_iv2
URL:http://pages.destination.one/de/badiburg/streaming/detail/Event/e_10046
 8315/klangreisen-in-der-salzgrotte
END:VEVENT
BEGIN:VTIMEZONE
TZID:Europe/Berlin
X-LIC-LOCATION:Europe/Berlin
BEGIN:DAYLIGHT
DTSTART:19700329T020000
RRULE:FREQ=YEARLY;BYDAY=-1SU;BYMONTH=3
TZNAME:CEST
TZOFFSETFROM:+0100
TZOFFSETTO:+0200
END:DAYLIGHT
BEGIN:STANDARD
DTSTART:19701025T030000
RRULE:FREQ=YEARLY;BYDAY=-1SU;BYMONTH=10
TZNAME:CET
TZOFFSETFROM:+0200
TZOFFSETTO:+0100
END:STANDARD
END:VTIMEZONE
END:VCALENDAR
