BEGIN:VCALENDAR
VERSION:2.0
PRODID:-//destination.one//NONSGML destination.meta API//DE
X-WR-CALDESC:A calendar powered by destination.meta
X-WR-CALNAME:arnstadt Kalender via destination.meta
BEGIN:VEVENT
CATEGORIES:Johann Sebastian Bach
CATEGORIES:Religion & Glauben
DESCRIPTION:Predigt von und mit Prof. Dr. Margot Käßmann\n\nmehr Informatio
 nen unter http://pages.destination.one/de/arnstadt/streaming/detail/Event/
 e_101250081/evangelischer-radio-gottesdienst
DTEND;TZID=Europe/Berlin:20260420T110000
DTSTAMP:20260423T100325Z
DTSTART;TZID=Europe/Berlin:20260419T100000
GEO:50.834064;10.946331
LOCATION:Bachkirche\, An der Neuen Kirche\, Arnstadt
ORGANIZER;CN=Evangelisch-lutherische Kirchgemeinde Arnstadt:mailto:kirchenm
 usik@kirche-arnstadt.de
SEQUENCE:0
SUMMARY:Evangelischer (Radio-) Gottesdienst
UID:e_101250081_iv0
URL:http://pages.destination.one/de/arnstadt/streaming/detail/Event/e_10125
 0081/evangelischer-radio-gottesdienst
END:VEVENT
BEGIN:VTIMEZONE
TZID:Europe/Berlin
X-LIC-LOCATION:Europe/Berlin
BEGIN:DAYLIGHT
DTSTART:19700329T020000
RRULE:FREQ=YEARLY;BYDAY=-1SU;BYMONTH=3
TZNAME:CEST
TZOFFSETFROM:+0100
TZOFFSETTO:+0200
END:DAYLIGHT
BEGIN:STANDARD
DTSTART:19701025T030000
RRULE:FREQ=YEARLY;BYDAY=-1SU;BYMONTH=10
TZNAME:CET
TZOFFSETFROM:+0200
TZOFFSETTO:+0100
END:STANDARD
END:VTIMEZONE
END:VCALENDAR
