BEGIN:VCALENDAR
VERSION:2.0
PRODID:-//destination.one//NONSGML destination.meta API//DE
X-WR-CALDESC:A calendar powered by destination.meta
X-WR-CALNAME:altena Kalender via destination.meta
BEGIN:VEVENT
CATEGORIES:Kinderprogramm
DESCRIPTION:\n\nmehr Informationen unter http://pages.destination.one/de/al
 tena/streaming/detail/Event/e_101162344/bilderbuchkino-in-der-stadtb-chere
 i
DTEND;TZID=Europe/Berlin:20260106T164500
DTSTAMP:20260422T162418Z
DTSTART;TZID=Europe/Berlin:20260106T160000
GEO:51.294550;7.672570
LOCATION:Stadtbücherei Altena\, Marktstraße 14-16\, Altena
ORGANIZER;CN=Stadtbücherei Altena:mailto:stadtbuecherei@altena.de
SEQUENCE:0
SUMMARY:Bilderbuchkino in der Stadtbücherei
UID:e_101162344_iv0
URL:http://pages.destination.one/de/altena/streaming/detail/Event/e_1011623
 44/bilderbuchkino-in-der-stadtb-cherei
END:VEVENT
BEGIN:VEVENT
CATEGORIES:Kinderprogramm
DESCRIPTION:\n\nmehr Informationen unter http://pages.destination.one/de/al
 tena/streaming/detail/Event/e_101162344/bilderbuchkino-in-der-stadtb-chere
 i
DTEND;TZID=Europe/Berlin:20260203T164500
DTSTAMP:20260422T162418Z
DTSTART;TZID=Europe/Berlin:20260203T160000
GEO:51.294550;7.672570
LOCATION:Stadtbücherei Altena\, Marktstraße 14-16\, Altena
ORGANIZER;CN=Stadtbücherei Altena:mailto:stadtbuecherei@altena.de
SEQUENCE:0
SUMMARY:Bilderbuchkino in der Stadtbücherei
UID:e_101162344_iv1
URL:http://pages.destination.one/de/altena/streaming/detail/Event/e_1011623
 44/bilderbuchkino-in-der-stadtb-cherei
END:VEVENT
BEGIN:VEVENT
CATEGORIES:Kinderprogramm
DESCRIPTION:\n\nmehr Informationen unter http://pages.destination.one/de/al
 tena/streaming/detail/Event/e_101162344/bilderbuchkino-in-der-stadtb-chere
 i
DTEND;TZID=Europe/Berlin:20260303T164500
DTSTAMP:20260422T162418Z
DTSTART;TZID=Europe/Berlin:20260303T160000
GEO:51.294550;7.672570
LOCATION:Stadtbücherei Altena\, Marktstraße 14-16\, Altena
ORGANIZER;CN=Stadtbücherei Altena:mailto:stadtbuecherei@altena.de
SEQUENCE:0
SUMMARY:Bilderbuchkino in der Stadtbücherei
UID:e_101162344_iv2
URL:http://pages.destination.one/de/altena/streaming/detail/Event/e_1011623
 44/bilderbuchkino-in-der-stadtb-cherei
END:VEVENT
BEGIN:VEVENT
CATEGORIES:Kinderprogramm
DESCRIPTION:\n\nmehr Informationen unter http://pages.destination.one/de/al
 tena/streaming/detail/Event/e_101162344/bilderbuchkino-in-der-stadtb-chere
 i
DTEND;TZID=Europe/Berlin:20260414T164500
DTSTAMP:20260422T162418Z
DTSTART;TZID=Europe/Berlin:20260414T160000
GEO:51.294550;7.672570
LOCATION:Stadtbücherei Altena\, Marktstraße 14-16\, Altena
ORGANIZER;CN=Stadtbücherei Altena:mailto:stadtbuecherei@altena.de
SEQUENCE:0
SUMMARY:Bilderbuchkino in der Stadtbücherei
UID:e_101162344_iv3
URL:http://pages.destination.one/de/altena/streaming/detail/Event/e_1011623
 44/bilderbuchkino-in-der-stadtb-cherei
END:VEVENT
BEGIN:VEVENT
CATEGORIES:Kinderprogramm
DESCRIPTION:\n\nmehr Informationen unter http://pages.destination.one/de/al
 tena/streaming/detail/Event/e_101162344/bilderbuchkino-in-der-stadtb-chere
 i
DTEND;TZID=Europe/Berlin:20260505T164500
DTSTAMP:20260422T162418Z
DTSTART;TZID=Europe/Berlin:20260505T160000
GEO:51.294550;7.672570
LOCATION:Stadtbücherei Altena\, Marktstraße 14-16\, Altena
ORGANIZER;CN=Stadtbücherei Altena:mailto:stadtbuecherei@altena.de
SEQUENCE:0
SUMMARY:Bilderbuchkino in der Stadtbücherei
UID:e_101162344_iv4
URL:http://pages.destination.one/de/altena/streaming/detail/Event/e_1011623
 44/bilderbuchkino-in-der-stadtb-cherei
END:VEVENT
BEGIN:VEVENT
CATEGORIES:Kinderprogramm
DESCRIPTION:\n\nmehr Informationen unter http://pages.destination.one/de/al
 tena/streaming/detail/Event/e_101162344/bilderbuchkino-in-der-stadtb-chere
 i
DTEND;TZID=Europe/Berlin:20260602T164500
DTSTAMP:20260422T162418Z
DTSTART;TZID=Europe/Berlin:20260602T160000
GEO:51.294550;7.672570
LOCATION:Stadtbücherei Altena\, Marktstraße 14-16\, Altena
ORGANIZER;CN=Stadtbücherei Altena:mailto:stadtbuecherei@altena.de
SEQUENCE:0
SUMMARY:Bilderbuchkino in der Stadtbücherei
UID:e_101162344_iv5
URL:http://pages.destination.one/de/altena/streaming/detail/Event/e_1011623
 44/bilderbuchkino-in-der-stadtb-cherei
END:VEVENT
BEGIN:VEVENT
CATEGORIES:Kinderprogramm
DESCRIPTION:\n\nmehr Informationen unter http://pages.destination.one/de/al
 tena/streaming/detail/Event/e_101162344/bilderbuchkino-in-der-stadtb-chere
 i
DTEND;TZID=Europe/Berlin:20260707T164500
DTSTAMP:20260422T162418Z
DTSTART;TZID=Europe/Berlin:20260707T160000
GEO:51.294550;7.672570
LOCATION:Stadtbücherei Altena\, Marktstraße 14-16\, Altena
ORGANIZER;CN=Stadtbücherei Altena:mailto:stadtbuecherei@altena.de
SEQUENCE:0
SUMMARY:Bilderbuchkino in der Stadtbücherei
UID:e_101162344_iv6
URL:http://pages.destination.one/de/altena/streaming/detail/Event/e_1011623
 44/bilderbuchkino-in-der-stadtb-cherei
END:VEVENT
BEGIN:VTIMEZONE
TZID:Europe/Berlin
X-LIC-LOCATION:Europe/Berlin
BEGIN:DAYLIGHT
DTSTART:19700329T020000
RRULE:FREQ=YEARLY;BYDAY=-1SU;BYMONTH=3
TZNAME:CEST
TZOFFSETFROM:+0100
TZOFFSETTO:+0200
END:DAYLIGHT
BEGIN:STANDARD
DTSTART:19701025T030000
RRULE:FREQ=YEARLY;BYDAY=-1SU;BYMONTH=10
TZNAME:CET
TZOFFSETFROM:+0200
TZOFFSETTO:+0100
END:STANDARD
END:VTIMEZONE
END:VCALENDAR
